BEGIN:VCALENDAR
VERSION:2.0
PRODID:-//O Gaveto Tasting Club - ECPv6.15.11//NONSGML v1.0//EN
CALSCALE:GREGORIAN
METHOD:PUBLISH
X-WR-CALNAME:O Gaveto Tasting Club
X-ORIGINAL-URL:https://tastingclub.ogaveto.com
X-WR-CALDESC:Eventos para O Gaveto Tasting Club
REFRESH-INTERVAL;VALUE=DURATION:PT1H
X-Robots-Tag:noindex
X-PUBLISHED-TTL:PT1H
BEGIN:VTIMEZONE
TZID:Europe/Lisbon
BEGIN:DAYLIGHT
TZOFFSETFROM:+0000
TZOFFSETTO:+0100
TZNAME:WEST
DTSTART:20230326T010000
END:DAYLIGHT
BEGIN:STANDARD
TZOFFSETFROM:+0100
TZOFFSETTO:+0000
TZNAME:WET
DTSTART:20231029T010000
END:STANDARD
BEGIN:DAYLIGHT
TZOFFSETFROM:+0000
TZOFFSETTO:+0100
TZNAME:WEST
DTSTART:20240331T010000
END:DAYLIGHT
BEGIN:STANDARD
TZOFFSETFROM:+0100
TZOFFSETTO:+0000
TZNAME:WET
DTSTART:20241027T010000
END:STANDARD
BEGIN:DAYLIGHT
TZOFFSETFROM:+0000
TZOFFSETTO:+0100
TZNAME:WEST
DTSTART:20250330T010000
END:DAYLIGHT
BEGIN:STANDARD
TZOFFSETFROM:+0100
TZOFFSETTO:+0000
TZNAME:WET
DTSTART:20251026T010000
END:STANDARD
END:VTIMEZONE
BEGIN:VEVENT
DTSTART;TZID=Europe/Lisbon:20241122T200000
DTEND;TZID=Europe/Lisbon:20241122T233000
DTSTAMP:20260419T224255
CREATED:20241119T102619Z
LAST-MODIFIED:20241125T124937Z
UID:244014-1732305600-1732318200@tastingclub.ogaveto.com
SUMMARY:Jojo est dans la maison en forme de jéroboam
DESCRIPTION:George dos Santos	\n	\n	\n\n	\n\n		\n	\n	\n	\n	\n		João Carlos	\n	\n	\n\n	\n\n		\n	\n	\n	\n	\n		George dos Santos	\n	\n	\n\n	\n\n		\n	\n	\n	\n	\n		O Evento
URL:https://tastingclub.ogaveto.com/evento/jojo-est-dans-la-maison-en-forme-de-jeroboam/
LOCATION:Restaurante O Gaveto | Sala Zalto\, Rua Roberto Ivens\, 826\, Matosinhos\, Porto\, 4450-255\, Portugal
ATTACH;FMTTYPE=image/webp:https://tastingclub.ogaveto.com/wp-content/uploads/2024/11/jojo-capa.webp
END:VEVENT
END:VCALENDAR