BEGIN:VCALENDAR
VERSION:2.0
PRODID:-//O Gaveto Tasting Club - ECPv6.15.11//NONSGML v1.0//EN
CALSCALE:GREGORIAN
METHOD:PUBLISH
X-WR-CALNAME:O Gaveto Tasting Club
X-ORIGINAL-URL:https://tastingclub.ogaveto.com
X-WR-CALDESC:Eventos para O Gaveto Tasting Club
REFRESH-INTERVAL;VALUE=DURATION:PT1H
X-Robots-Tag:noindex
X-PUBLISHED-TTL:PT1H
BEGIN:VTIMEZONE
TZID:Europe/Lisbon
BEGIN:DAYLIGHT
TZOFFSETFROM:+0000
TZOFFSETTO:+0100
TZNAME:WEST
DTSTART:20240331T010000
END:DAYLIGHT
BEGIN:STANDARD
TZOFFSETFROM:+0100
TZOFFSETTO:+0000
TZNAME:WET
DTSTART:20241027T010000
END:STANDARD
BEGIN:DAYLIGHT
TZOFFSETFROM:+0000
TZOFFSETTO:+0100
TZNAME:WEST
DTSTART:20250330T010000
END:DAYLIGHT
BEGIN:STANDARD
TZOFFSETFROM:+0100
TZOFFSETTO:+0000
TZNAME:WET
DTSTART:20251026T010000
END:STANDARD
BEGIN:DAYLIGHT
TZOFFSETFROM:+0000
TZOFFSETTO:+0100
TZNAME:WEST
DTSTART:20260329T010000
END:DAYLIGHT
BEGIN:STANDARD
TZOFFSETFROM:+0100
TZOFFSETTO:+0000
TZNAME:WET
DTSTART:20261025T010000
END:STANDARD
END:VTIMEZONE
BEGIN:VEVENT
DTSTART;TZID=Europe/Lisbon:20250313T200000
DTEND;TZID=Europe/Lisbon:20250313T233000
DTSTAMP:20260420T085509
CREATED:20250306T114819Z
LAST-MODIFIED:20250317T182233Z
UID:244858-1741896000-1741908600@tastingclub.ogaveto.com
SUMMARY:Esporão n’O Gaveto Tasting Club
DESCRIPTION:Enólogo - José Luís Moreira da Silva	\n	\n	\n\n	\n\n		\n	\n	\n	\n	\n		Oleóloga - Ana Carrilho	\n	\n	\n\n	\n\n		\n	\n	\n	\n	\n		João Carlos	\n	\n	\n\n	\n\n		\n	\n	\n	\n	\n		Enólogo - José Luís Moreira da Silva	\n	\n	\n\n	\n\n		\n	\n	\n	\n	\n		Oleóloga - Ana Carrilho	\n	\n	\n\n	\n\n		\n	\n	\n	\n	\n		João Carlos	\n	\n	\n\n	\n\n		\n	\n	\n	\n	\n		Jantar Esporão
URL:https://tastingclub.ogaveto.com/evento/esporao-no-gaveto-tasting-club/
LOCATION:Restaurante O Gaveto | Sala Zalto\, Rua Roberto Ivens\, 826\, Matosinhos\, Porto\, 4450-255\, Portugal
ATTACH;FMTTYPE=image/webp:https://tastingclub.ogaveto.com/wp-content/uploads/2025/03/capa-site.webp
END:VEVENT
END:VCALENDAR